BEGIN:VCALENDAR
VERSION:2.0
PRODID:-//BioCharger - ECPv6.15.20//NONSGML v1.0//EN
CALSCALE:GREGORIAN
METHOD:PUBLISH
X-WR-CALNAME:BioCharger
X-ORIGINAL-URL:https://biocharger.com
X-WR-CALDESC:Events for BioCharger
REFRESH-INTERVAL;VALUE=DURATION:PT1H
X-Robots-Tag:noindex
X-PUBLISHED-TTL:PT1H
BEGIN:VTIMEZONE
TZID:UTC
BEGIN:STANDARD
TZOFFSETFROM:+0000
TZOFFSETTO:+0000
TZNAME:UTC
DTSTART:20240101T000000
END:STANDARD
END:VTIMEZONE
BEGIN:VEVENT
DTSTART;VALUE=DATE:20251009
DTEND;VALUE=DATE:20251013
DTSTAMP:20260421T041159
CREATED:20250811T194153Z
LAST-MODIFIED:20250811T194153Z
UID:11818-1759968000-1760313599@biocharger.com
SUMMARY:Tony Robbins Unleash the Power Within | Anaheim\, CA
DESCRIPTION:Where: BioCharger Lounge\, inside UPW \nWhen: October 9–12\, 2024 \nWhy Visit: Recharge your energy\, sharpen your focus\, and experience the ultimate edge just like Tony teaches. \nThis is our biggest BioCharger event of the year and you’re invited. The BioCharger Lounge will feature 8+ BioChargers running all day long\, giving you unlimited\, touchless sessions to keep your energy high and your mind sharp throughout UPW. (You might have a ticket to UPW to visit the Lounge.) \nStop by anytime to meet our team\, experience the BioCharger for yourself\, and learn how it can help you boost your energy\, sharpen your focus\, and feel your best every day. \nExclusive Event Deals will be available to attendees only. Don’t miss your opportunity to pair Tony’s strategies with the most advanced energy platform in wellness.
URL:https://biocharger.com/event/tony-robbins-unleash-the-power-within-anaheim-ca/
LOCATION:Honda Center\, 2695 E Katella Ave\, Anaheim\, CA\, 92806\, United States
CATEGORIES:Tony Robbins Events
ATTACH;FMTTYPE=image/jpeg:https://biocharger.com/wp-content/uploads/2025/08/93FDC084-2835-482F-A674-2CA91E13BA38.jpg
END:VEVENT
END:VCALENDAR