BEGIN:VCALENDAR
VERSION:2.0
PRODID:-//BioCharger - ECPv6.15.20//NONSGML v1.0//EN
CALSCALE:GREGORIAN
METHOD:PUBLISH
X-WR-CALNAME:BioCharger
X-ORIGINAL-URL:https://biocharger.com
X-WR-CALDESC:Events for BioCharger
REFRESH-INTERVAL;VALUE=DURATION:PT1H
X-Robots-Tag:noindex
X-PUBLISHED-TTL:PT1H
BEGIN:VTIMEZONE
TZID:UTC
BEGIN:STANDARD
TZOFFSETFROM:+0000
TZOFFSETTO:+0000
TZNAME:UTC
DTSTART:20240101T000000
END:STANDARD
END:VTIMEZONE
BEGIN:VEVENT
DTSTART;VALUE=DATE:20250813
DTEND;VALUE=DATE:20250818
DTSTAMP:20260421T073410
CREATED:20250808T185635Z
LAST-MODIFIED:20250811T192608Z
UID:11808-1755043200-1755475199@biocharger.com
SUMMARY:Tony Robbins Business Mastery | West Palm Beach\, FL
DESCRIPTION:Where: BioCharger Lounge\, inside Business Mastery \nWhen: August 13–17\, 2024 \nWho: All Business Mastery attendees \nWhy Visit: Recharge your energy\, sharpen your focus\, and gain the ultimate edge—just like Tony teaches. \nWe hope to see you at Tony Robbins’ flagship business event for an exclusive chance to experience the BioCharger. Step into our BioCharger Lounge anytime during the five-day program to enjoy unlimited\, touchless sessions\, learn from our team\, and discover how to boost client outcomes\, grow revenue\, and free up staff without adding hours to your day. \nExclusive Event Deals are available to attendees only through August 18th. Don’t miss your opportunity to combine Tony’s strategies with next-level energy.
URL:https://biocharger.com/event/tony-robbins-business-mastery-west-palm-beach-fl-august-13-17-2025/
LOCATION:Palm Beach County Convention Center\, 650 Okeechobee Blvd\, West Palm Beach\, FL\, 33401\, United States
CATEGORIES:Tony Robbins Events
ATTACH;FMTTYPE=image/jpeg:https://biocharger.com/wp-content/uploads/2025/07/Photo_w_Tony_cropped.jpg
END:VEVENT
END:VCALENDAR